BEGIN:VCALENDAR
VERSION:2.0
PRODID:-//LyonHeart Equine Assisted Learning - ECPv6.10.3//NONSGML v1.0//EN
CALSCALE:GREGORIAN
METHOD:PUBLISH
X-WR-CALNAME:LyonHeart Equine Assisted Learning
X-ORIGINAL-URL:https://www.lyonheartequinelearning.org
X-WR-CALDESC:Events for LyonHeart Equine Assisted Learning
REFRESH-INTERVAL;VALUE=DURATION:PT1H
X-Robots-Tag:noindex
X-PUBLISHED-TTL:PT1H
BEGIN:VTIMEZONE
TZID:America/Chicago
BEGIN:DAYLIGHT
TZOFFSETFROM:-0600
TZOFFSETTO:-0500
TZNAME:CDT
DTSTART:20210314T080000
END:DAYLIGHT
BEGIN:STANDARD
TZOFFSETFROM:-0500
TZOFFSETTO:-0600
TZNAME:CST
DTSTART:20211107T070000
END:STANDARD
END:VTIMEZONE
BEGIN:VEVENT
DTSTART;VALUE=DATE:20210802
DTEND;VALUE=DATE:20210805
DTSTAMP:20260425T090630
CREATED:20210421T193148Z
LAST-MODIFIED:20210725T192225Z
UID:1305-1627862400-1628121599@www.lyonheartequinelearning.org
SUMMARY:HorsePowered Life Skills - Back to School Challenges & Opportunties
DESCRIPTION:Making their child’s transition to school easier is every parent’s priority.\nYour child may feel excited about going back to school. However\, there may\nalso be anxiety about new teachers\, a different environment\, or even a\ncurriculum they perceive as too difficult. Our “Back to School” program partners with a horse to become a “living” diagram\, giving your child a physical tool for addressing the various challenges associated with going back to school. Your child will learn how to reframe those challenges as opportunities for a positive mind growth. \nTarget Skills:  Reframing challenges as opportunities\, teamwork & emotional resilience \nEach program will run three (3) consecutive days – two (2) hours per day. Choose only a morning or an evening program. \n\n9:00 – 11:00 AM OR 6:00 – 8:00 PM\n If program is full\, please contact us if you wish to be placed on a waiting list. \nUp to a maximum of 6 participants – dependent upon the number of students that have a behavioral Individual Education Plan.\n\nCost:  $200/$100*/ or No-Cost** \n\nPayment due on the first day of program (cash or check) or pay electronically via Donation page.\n\nGrades:  Kindergarten and up \nScholarships: \n\n**Full Scholarships may be limited  –  due to the number of applicants\n*Partial Scholarships ($100) are not limited\n\nActivities take place in an outdoor arena and activity shelter. No riding. No previous horse experience needed.
URL:https://www.lyonheartequinelearning.org/event/horsepowered-life-skills-back-to-school-challenges-opportunties/
LOCATION:LyonHeart\, 3135 West 22nd St.\, Kearney\, NE\, 68845\, United States
CATEGORIES:HorsePowered Life Skills
ORGANIZER;CN="Nancy Lyon":MAILTO:nancy@lyonheartequinelearning.org
END:VEVENT
END:VCALENDAR