BEGIN:VCALENDAR
VERSION:2.0
PRODID:-//LyonHeart Equine Assisted Learning - ECPv6.10.3//NONSGML v1.0//EN
CALSCALE:GREGORIAN
METHOD:PUBLISH
X-WR-CALNAME:LyonHeart Equine Assisted Learning
X-ORIGINAL-URL:https://www.lyonheartequinelearning.org
X-WR-CALDESC:Events for LyonHeart Equine Assisted Learning
REFRESH-INTERVAL;VALUE=DURATION:PT1H
X-Robots-Tag:noindex
X-PUBLISHED-TTL:PT1H
BEGIN:VTIMEZONE
TZID:America/Chicago
BEGIN:DAYLIGHT
TZOFFSETFROM:-0600
TZOFFSETTO:-0500
TZNAME:CDT
DTSTART:20210314T080000
END:DAYLIGHT
BEGIN:STANDARD
TZOFFSETFROM:-0500
TZOFFSETTO:-0600
TZNAME:CST
DTSTART:20211107T070000
END:STANDARD
END:VTIMEZONE
BEGIN:VEVENT
DTSTART;VALUE=DATE:20210719
DTEND;VALUE=DATE:20210722
DTSTAMP:20260425T073111
CREATED:20210421T194206Z
LAST-MODIFIED:20210426T223132Z
UID:1310-1626652800-1626911999@www.lyonheartequinelearning.org
SUMMARY:HorsePowered Reading - Grades 3 & Up ONLY
DESCRIPTION:Did you know? One study found that 82% of students in sixth grade who\nhad failed an English class could not graduate from high school. (Source:\nRenaissance) Our program strives to increase your child’s reading\ncomprehension and develop creative writing skills. We accomplish this by\nintroducing your child to the unique vocabulary associated with horses. Your\nchild will understand the words they are learning and using in concrete\, real world contexts. \nTarget skills:  Comprehension\, Creative Writing & Horse Vocabulary \nEach program will run three (3) consecutive days – two (2) hours per day. Choose only a morning or an evening program. \n\n9:00 – 11:00 AM OR 6:00 – 8:00 PM\nUp to a maximum of 6 participants – dependent upon the number of students that have a behavioral Individual Education Plan.\n\nCost:  $200/$100*/ or No-Cost** \nGrades:  Grades 3 and Up \nScholarships: \n\n**Full Scholarships may be limited  –  due to the number of applicants\n*Partial Scholarships ($100) are not limited\n\nActivities take place in an outdoor arena and activity shelter. No riding. No previous horse experience needed.
URL:https://www.lyonheartequinelearning.org/event/horsepowered-reading-grades-3-up-only/
LOCATION:LyonHeart\, 3135 West 22nd St.\, Kearney\, NE\, 68845\, United States
CATEGORIES:HorsePowered Reading
ORGANIZER;CN="Nancy Lyon":MAILTO:nancy@lyonheartequinelearning.org
END:VEVENT
END:VCALENDAR