BEGIN:VCALENDAR
VERSION:2.0
PRODID:-//LyonHeart Equine Assisted Learning - ECPv6.10.3//NONSGML v1.0//EN
CALSCALE:GREGORIAN
METHOD:PUBLISH
X-WR-CALNAME:LyonHeart Equine Assisted Learning
X-ORIGINAL-URL:https://www.lyonheartequinelearning.org
X-WR-CALDESC:Events for LyonHeart Equine Assisted Learning
REFRESH-INTERVAL;VALUE=DURATION:PT1H
X-Robots-Tag:noindex
X-PUBLISHED-TTL:PT1H
BEGIN:VTIMEZONE
TZID:America/Chicago
BEGIN:DAYLIGHT
TZOFFSETFROM:-0600
TZOFFSETTO:-0500
TZNAME:CDT
DTSTART:20210314T080000
END:DAYLIGHT
BEGIN:STANDARD
TZOFFSETFROM:-0500
TZOFFSETTO:-0600
TZNAME:CST
DTSTART:20211107T070000
END:STANDARD
END:VTIMEZONE
BEGIN:VEVENT
DTSTART;VALUE=DATE:20210712
DTEND;VALUE=DATE:20210715
DTSTAMP:20260425T073335
CREATED:20210421T191258Z
LAST-MODIFIED:20210708T221601Z
UID:1296-1626048000-1626307199@www.lyonheartequinelearning.org
SUMMARY:HorsePowered Reading - Grades K-3 ONLY
DESCRIPTION:Help your child progress towards true reading mastery. Our program allows\nyour child to learn critical reading concepts through one-on-one interaction and group activities. This program includes various activities that take place on the ground with a reading (horse) buddy. This unique program integrates\nkinetic learning strategies with cognitive development. In other words\, every\nchild will exercise their brain while having fun! \nAll activities will be based around the book – “The Wonky Donkey.” \nTarget skills:  Comprehension\, Sight Words\, Creative Writing & Vocabulary \nEach program will run three (3) consecutive days – two (2) hours per day. Choose only a morning or an evening program. \n\n9:00 – 11:00 AM OR 6:00 – 8:00 PM\nUp to a maximum of 6 participants – dependent upon the number of students that have a behavioral Individual Education Plan.\n\nCost:  $200/$100*/ or No-Cost** \nGrades:  Kindergarten through Grade 3 \nScholarships: \n\n**Full Scholarships may be limited  –  due to the number of applicants\n*Partial Scholarships ($100) are not limited\n\nActivities take place in an outdoor arena and activity shelter. No riding. No previous horse experience needed.
URL:https://www.lyonheartequinelearning.org/event/horsepowered-reading-grades-k-3-only/
LOCATION:LyonHeart\, 3135 West 22nd St.\, Kearney\, NE\, 68845\, United States
CATEGORIES:HorsePowered Reading
ORGANIZER;CN="Nancy Lyon":MAILTO:nancy@lyonheartequinelearning.org
END:VEVENT
END:VCALENDAR