BEGIN:VCALENDAR
VERSION:2.0
PRODID:-//LyonHeart Equine Assisted Learning - ECPv6.10.3//NONSGML v1.0//EN
CALSCALE:GREGORIAN
METHOD:PUBLISH
X-ORIGINAL-URL:https://www.lyonheartequinelearning.org
X-WR-CALDESC:Events for LyonHeart Equine Assisted Learning
REFRESH-INTERVAL;VALUE=DURATION:PT1H
X-Robots-Tag:noindex
X-PUBLISHED-TTL:PT1H
BEGIN:VTIMEZONE
TZID:America/Chicago
BEGIN:DAYLIGHT
TZOFFSETFROM:-0600
TZOFFSETTO:-0500
TZNAME:CDT
DTSTART:20210314T080000
END:DAYLIGHT
BEGIN:STANDARD
TZOFFSETFROM:-0500
TZOFFSETTO:-0600
TZNAME:CST
DTSTART:20211107T070000
END:STANDARD
END:VTIMEZONE
BEGIN:VEVENT
DTSTART;VALUE=DATE:20210628
DTEND;VALUE=DATE:20210701
DTSTAMP:20260425T071945
CREATED:20210421T190607Z
LAST-MODIFIED:20210622T231520Z
UID:1293-1624838400-1625097599@www.lyonheartequinelearning.org
SUMMARY:HorsePowered Math & Science - Grades 3 and Up Only
DESCRIPTION:Do you have a child who loves doing experiments? Whether your child struggles with math or is a math whiz\, this  unique program mixes math and science\, making it a perfect fit for your child. Our hands-on activities include:\nMeasuring a horse’s height\nCalculating its weight\nDiscovering\, charting  and comparing a horse’s heart rate to your child’s\nMaking yummy horse treats \nEach program will run three (3) consecutive days – two (2) hours per day. Choose only a morning or an evening program. \n\n9:00 – 11:00 AM OR 6:00 – 8:00 PM\nUp to a maximum of 6 participants – dependent upon the number of students that have a behavioral Individual Education Plan.\n\nCost:  $200/$100*/ or No-Cost** \nGrades:  Grades 3 and Up Only \nScholarships: \n\n**Full Scholarships may be limited  –  due to the number of applicants\n*Partial Scholarships ($100) are not limited\n\nActivities take place in an outdoor arena and activity shelter. No riding. No previous horse experience needed.
URL:https://www.lyonheartequinelearning.org/event/horsepowered-math-science-grades-3-and-up-only/
LOCATION:LyonHeart\, 3135 West 22nd St.\, Kearney\, NE\, 68845\, United States
CATEGORIES:HorsePowered Math
ORGANIZER;CN="Nancy Lyon":MAILTO:nancy@lyonheartequinelearning.org
END:VEVENT
END:VCALENDAR